BEGIN:VCALENDAR
VERSION:2.0
PRODID:-//Plone.org//NONSGML plone.app.event//EN
X-WR-TIMEZONE:America/Maceio
BEGIN:VEVENT
SUMMARY:A pós-graduação stricto sensu em Educação Física de Alagoas:
  conhecer\, compreender e participar de uma nova era de possibilidades
DTSTART;TZID=America/Maceio:20250425T080000
DTEND;TZID=America/Maceio:20250425T180000
DTSTAMP:20260420T054534Z
UID:44b0b3dadd0a4ed3b7c216a9b86af4f5@iefe.ufal.br
ATTENDEE;CN="Profissionais de Educação Física em geral ";ROLE=REQ-PARTI
 CIPANT:Profissionais de Educação Física em geral 
ATTENDEE;CN="Docentes de Educação Física escolar de redes públicas de 
 ensino";ROLE=REQ-PARTICIPANT:Docentes de Educação Física escolar de red
 es públicas de ensino
ATTENDEE;CN="Profissionais de educação interessados na Educação Especi
 al";ROLE=REQ-PARTICIPANT:Profissionais de educação interessados na Educa
 ção Especial
ATTENDEE;CN="Fisioterapeutas, nutricionistas e profissionais de áreas afi
 ns";ROLE=REQ-PARTICIPANT:Fisioterapeutas, nutricionistas e profissionais d
 e áreas afins
CONTACT:Coordenação do ProEF/Ufal\, secretaria.proef@iefe.ufal.br\, http
 ://sigaa.sig.ufal.br/sigaa/link/public/extensao/visualizacaoAcaoExtensao/1
 0603
CREATED:20250414T144041Z
LAST-MODIFIED:20250414T164053Z
LOCATION:Auditória da Reitoria da Ufal
URL:https://iefe.ufal.br/extensao/eventos-1/a-pos-graduacao-stricto-sensu-
 em-educacao-fisica-de-alagoas
END:VEVENT
BEGIN:VTIMEZONE
TZID:America/Maceio
X-LIC-LOCATION:America/Maceio
BEGIN:STANDARD
DTSTART:20020216T230000
TZNAME:-03
TZOFFSETFROM:-0200
TZOFFSETTO:-0300
END:STANDARD
END:VTIMEZONE
END:VCALENDAR
