BEGIN:VCALENDAR
VERSION:2.0
PRODID:-//Plone.org//NONSGML plone.app.event//EN
X-WR-TIMEZONE:America/Maceio
BEGIN:VEVENT
SUMMARY:FESTIVAL PARALÍMPICO LOTERIAS CAIXA 2024 - 2ª Edição
DTSTART;VALUE=DATE:20241207
DTEND;VALUE=DATE:20241208
DTSTAMP:20260419T164836Z
UID:b485b3daf8b846f49c4560c3f150034e@iefe.ufal.br
CONTACT:https://forms.gle/6YDaeN9AL6tD4Aas8
CREATED:20241122T124032Z
DESCRIPTION:FICHA DE INSCRIÇÃO
LAST-MODIFIED:20241122T124048Z
LOCATION:Complexo Esportivo UFAL
URL:https://iefe.ufal.br/institucional/informes/festival-paralimpico-loter
 ias-caixa-2024-2a-edicao-1
END:VEVENT
END:VCALENDAR
